BEGIN:VCALENDAR
VERSION:2.0
PRODID:-//Pomona Valley Model Airplane Club - ECPv6.15.20//NONSGML v1.0//EN
CALSCALE:GREGORIAN
METHOD:PUBLISH
X-WR-CALNAME:Pomona Valley Model Airplane Club
X-ORIGINAL-URL:https://www.pvmac.com
X-WR-CALDESC:Events for Pomona Valley Model Airplane Club
REFRESH-INTERVAL;VALUE=DURATION:PT1H
X-Robots-Tag:noindex
X-PUBLISHED-TTL:PT1H
BEGIN:VTIMEZONE
TZID:America/Los_Angeles
BEGIN:DAYLIGHT
TZOFFSETFROM:-0800
TZOFFSETTO:-0700
TZNAME:PDT
DTSTART:20250309T100000
END:DAYLIGHT
BEGIN:STANDARD
TZOFFSETFROM:-0700
TZOFFSETTO:-0800
TZNAME:PST
DTSTART:20251102T090000
END:STANDARD
BEGIN:DAYLIGHT
TZOFFSETFROM:-0800
TZOFFSETTO:-0700
TZNAME:PDT
DTSTART:20260308T100000
END:DAYLIGHT
BEGIN:STANDARD
TZOFFSETFROM:-0700
TZOFFSETTO:-0800
TZNAME:PST
DTSTART:20261101T090000
END:STANDARD
BEGIN:DAYLIGHT
TZOFFSETFROM:-0800
TZOFFSETTO:-0700
TZNAME:PDT
DTSTART:20270314T100000
END:DAYLIGHT
BEGIN:STANDARD
TZOFFSETFROM:-0700
TZOFFSETTO:-0800
TZNAME:PST
DTSTART:20271107T090000
END:STANDARD
END:VTIMEZONE
BEGIN:VEVENT
DTSTART;TZID=America/Los_Angeles:20260529T000000
DTEND;TZID=America/Los_Angeles:20260530T235959
DTSTAMP:20260422T132950
CREATED:20260215T213211Z
LAST-MODIFIED:20260417T174350Z
UID:10190-1780012800-1780185599@www.pvmac.com
SUMMARY:Big Jolt 2026 – Electric RC Fun Fly & Competition
DESCRIPTION:⚡ All‑Electric Power. All‑Out Fun. \n\n\n\n\n\nGet ready for Big Jolt\, our club’s signature electric‑only RC fun fly and competition. Whether you’re into precision aerobatics\, high‑energy sport flying\, or just want to enjoy a day at the field with fellow pilots\, this event is built for you. \n\n\n\n✈ Event Highlights\n\n\n\n\nElectric‑powered aircraft only – park flyers\, EDF jets\, 3D aerobats\, gliders\, and more\n\n\n\nOpen fun‑fly sessions throughout the day\n\n\n\nFriendly competitions for pilots of all skill levels\n\n\n\nRaffles\, prizes\, and vendor tables\n\n\n\nFamily‑friendly atmosphere with plenty of space for spectators\n\n\n\n\n📝 Registration\n\n\n\n\n\n\n  \n    \n  \n  Registration\n\n\n\n\n \n\n\n\n🔌 Power Up & Join Us\n\n\n\nBig Jolt is all about celebrating the best of electric RC flight — quiet\, clean\, powerful\, and incredibly fun. Bring your best aircraft\, charge up your packs\, and come enjoy a full day of flying with the community.
URL:https://www.pvmac.com/event/big-jolt-2026/
LOCATION:Prado Airpark\, 17202 Cucamonga Avenue\, Chino\, CA\, 91708\, United States
CATEGORIES:Competition,Fun Fly
ATTACH;FMTTYPE=image/png:https://www.pvmac.com/wp-content/uploads/2026/04/BigJolt2026.png
END:VEVENT
END:VCALENDAR