BEGIN:VCALENDAR
VERSION:2.0
PRODID:-//Pomona Valley Model Airplane Club - ECPv6.15.20//NONSGML v1.0//EN
CALSCALE:GREGORIAN
METHOD:PUBLISH
X-WR-CALNAME:Pomona Valley Model Airplane Club
X-ORIGINAL-URL:https://www.pvmac.com
X-WR-CALDESC:Events for Pomona Valley Model Airplane Club
REFRESH-INTERVAL;VALUE=DURATION:PT1H
X-Robots-Tag:noindex
X-PUBLISHED-TTL:PT1H
BEGIN:VTIMEZONE
TZID:America/Los_Angeles
BEGIN:DAYLIGHT
TZOFFSETFROM:-0800
TZOFFSETTO:-0700
TZNAME:PDT
DTSTART:20250309T100000
END:DAYLIGHT
BEGIN:STANDARD
TZOFFSETFROM:-0700
TZOFFSETTO:-0800
TZNAME:PST
DTSTART:20251102T090000
END:STANDARD
BEGIN:DAYLIGHT
TZOFFSETFROM:-0800
TZOFFSETTO:-0700
TZNAME:PDT
DTSTART:20260308T100000
END:DAYLIGHT
BEGIN:STANDARD
TZOFFSETFROM:-0700
TZOFFSETTO:-0800
TZNAME:PST
DTSTART:20261101T090000
END:STANDARD
BEGIN:DAYLIGHT
TZOFFSETFROM:-0800
TZOFFSETTO:-0700
TZNAME:PDT
DTSTART:20270314T100000
END:DAYLIGHT
BEGIN:STANDARD
TZOFFSETFROM:-0700
TZOFFSETTO:-0800
TZNAME:PST
DTSTART:20271107T090000
END:STANDARD
END:VTIMEZONE
BEGIN:VEVENT
DTSTART;TZID=America/Los_Angeles:20261003T000000
DTEND;TZID=America/Los_Angeles:20261003T235959
DTSTAMP:20260422T234204
CREATED:20260126T162238Z
LAST-MODIFIED:20260321T235211Z
UID:9446-1790985600-1791071999@www.pvmac.com
SUMMARY:PVMAC Open House & Eliminator Racing
DESCRIPTION:October 3rd is shaping up to be an action‑packed day at the field. Our scheduled Eliminator Racing event will run alongside a special PVMAC Open House\, and we’re making sure both events get the spotlight they deserve.\n\n\n\nEvent Highlights \n\n\n\n\nExpanded spectator areas for better viewing\n\n\n\n30 minutes of open flying between Rounds 1 and 2\n\n\n\n60 minutes of open flying during lunch\n\n\n\nA free In‑N‑Out Burger truck for all Open House and Eliminator Racing attendees\n\n\n\n\nEliminator Racing Classes We’ll be featuring three exciting classes throughout the day: \n\n\n\n\nRun What You Brought – a relaxed\, entry‑level class perfect for newcomers\n\n\n\nWarbird Silver – our most competitive and tightly contested class\n\n\n\nWarbird Gold – the fast class\, with aircraft reaching speeds up to 180 mph\n\n\n\n\nFor full rules and class details\, please visit the Rules section on the Eliminator Racing website. \n\n\n\nWant to Fly? Visitors are welcome to try out the field during open‑flying windows with a valid AMA. No day pass required. \n\n\n\nOne‑Day Membership Special Join PVMAC on October 3rd for $160\, and we’ll waive the initiation fee. Your membership will cover the rest of this year plus all of next year. This offer is available only on October 3rd. \n\n\n\nCome enjoy the racing\, meet the club\, fly the field\, and grab a burger — it’s going to be a great day at PVMAC.
URL:https://www.pvmac.com/event/eliminator-race-3-2/
CATEGORIES:Community Outreach,Competition,Fun Fly
ATTACH;FMTTYPE=image/png:https://www.pvmac.com/wp-content/uploads/2026/01/OpenHouseWarbirdRacing.png
END:VEVENT
BEGIN:VEVENT
DTSTART;TZID=America/Los_Angeles:20260620T070000
DTEND;TZID=America/Los_Angeles:20260620T140000
DTSTAMP:20260422T234204
CREATED:20260321T232312Z
LAST-MODIFIED:20260321T234313Z
UID:10373-1781938800-1781964000@www.pvmac.com
SUMMARY:PVMAC Pre‑Father’s Day Members BBQ
DESCRIPTION:PVMAC Pre‑Father’s Day Members BBQ \n\n\n\n\n\nCelebrate Father’s Day weekend early with a laid‑back day at the field! We’re firing up the grill and inviting all PVMAC members and their families to join us for great food\, good company\, and plenty of flying. \n\n\n\nWhat to Expect \n\n\n\nA chance to relax\, connect\, and celebrate the dads in our club \n\n\n\nA delicious BBQ lunch served fresh \n\n\n\nOpen flying all day long
URL:https://www.pvmac.com/event/pvmac-pre-fathers-day-members-bbq/
LOCATION:Prado Airpark\, 17202 Cucamonga Avenue\, Chino\, CA\, 91708\, United States
CATEGORIES:Fun Fly,Member Appreciation
ATTACH;FMTTYPE=image/png:https://www.pvmac.com/wp-content/uploads/2026/03/FathersDayBBQ.png
END:VEVENT
BEGIN:VEVENT
DTSTART;TZID=America/Los_Angeles:20260529T000000
DTEND;TZID=America/Los_Angeles:20260530T235959
DTSTAMP:20260422T234204
CREATED:20260215T213211Z
LAST-MODIFIED:20260417T174350Z
UID:10190-1780012800-1780185599@www.pvmac.com
SUMMARY:Big Jolt 2026 – Electric RC Fun Fly & Competition
DESCRIPTION:⚡ All‑Electric Power. All‑Out Fun. \n\n\n\n\n\nGet ready for Big Jolt\, our club’s signature electric‑only RC fun fly and competition. Whether you’re into precision aerobatics\, high‑energy sport flying\, or just want to enjoy a day at the field with fellow pilots\, this event is built for you. \n\n\n\n✈ Event Highlights\n\n\n\n\nElectric‑powered aircraft only – park flyers\, EDF jets\, 3D aerobats\, gliders\, and more\n\n\n\nOpen fun‑fly sessions throughout the day\n\n\n\nFriendly competitions for pilots of all skill levels\n\n\n\nRaffles\, prizes\, and vendor tables\n\n\n\nFamily‑friendly atmosphere with plenty of space for spectators\n\n\n\n\n📝 Registration\n\n\n\n\n\n\n  \n    \n  \n  Registration\n\n\n\n\n \n\n\n\n🔌 Power Up & Join Us\n\n\n\nBig Jolt is all about celebrating the best of electric RC flight — quiet\, clean\, powerful\, and incredibly fun. Bring your best aircraft\, charge up your packs\, and come enjoy a full day of flying with the community.
URL:https://www.pvmac.com/event/big-jolt-2026/
LOCATION:Prado Airpark\, 17202 Cucamonga Avenue\, Chino\, CA\, 91708\, United States
CATEGORIES:Competition,Fun Fly
ATTACH;FMTTYPE=image/png:https://www.pvmac.com/wp-content/uploads/2026/04/BigJolt2026.png
END:VEVENT
BEGIN:VEVENT
DTSTART;TZID=America/Los_Angeles:20260523T103000
DTEND;TZID=America/Los_Angeles:20260523T180000
DTSTAMP:20260422T234204
CREATED:20260303T225104Z
LAST-MODIFIED:20260304T020818Z
UID:10287-1779532200-1779559200@www.pvmac.com
SUMMARY:NGCP Demo Day
DESCRIPTION:Join Northrop Grumman Collaboration Project (NGCP) for our annual Demo Day at Prado Airpark! \n\n\n\nThis event is the culmination of a year-long joint technology demonstration between Cal Poly Pomona and Cal Poly SLO. Watch as nearly 200 students showcase their classroom knowledge through a sophisticated\, autonomous disaster response system. \n\n\n\nWhat to Expect:\n\n\n\n\nLive Demonstrations: See our fleet in action\, including two Unmanned Aerial Vehicles (UAVs) and one Unmanned Ground Vehicle (UGV).\n\n\n\nMission Control: Explore the Ground Control Station that manages the autonomous fleet.\n\n\n\nFull Rescue Simulation: Weather and conditions permitting\, the teams will perform a coordinated\, simulated rescue mission.\n\n\n\n\nCome support the next generation of engineers and project leaders as they bridge the gap between theory and real-world application. \n\n\n\nNOTE: The field will be open for normal flying until 10:30am.
URL:https://www.pvmac.com/event/ngcp-demo-day/
LOCATION:Prado Airpark\, 17202 Cucamonga Avenue\, Chino\, CA\, 91708\, United States
CATEGORIES:Community Outreach,Educational
ATTACH;FMTTYPE=image/png:https://www.pvmac.com/wp-content/uploads/2026/03/NGCPDemoDay2026.png
ORGANIZER;CN="Chuck Pozanac":MAILTO:canazop@gmail.com
END:VEVENT
BEGIN:VEVENT
DTSTART;TZID=America/Los_Angeles:20260516T000000
DTEND;TZID=America/Los_Angeles:20260516T235959
DTSTAMP:20260422T234204
CREATED:20260126T162202Z
LAST-MODIFIED:20260307T005810Z
UID:9445-1778889600-1778975999@www.pvmac.com
SUMMARY:Eliminator Race
DESCRIPTION:Field will be closed to general flying.\nWe will be featuring 3 classes. An entry level\, Run What You Brought class\, Warbird Silver the most competitive class\, and Warbird Gold the fast class\, with speeds reaching 180mph. For more information in these classes please visit the Rules section of this website.
URL:https://www.pvmac.com/event/eliminator-race-2-2/
CATEGORIES:Competition
ATTACH;FMTTYPE=image/png:https://www.pvmac.com/wp-content/uploads/2026/01/Eliminator_Logo-1.png
END:VEVENT
BEGIN:VEVENT
DTSTART;TZID=America/Los_Angeles:20260409T000000
DTEND;TZID=America/Los_Angeles:20260411T235959
DTSTAMP:20260422T234204
CREATED:20260130T210220Z
LAST-MODIFIED:20260403T153405Z
UID:9893-1775692800-1775951999@www.pvmac.com
SUMMARY:Wings Over Chino
DESCRIPTION:✈️ Wings Over Chino – 18th Annual Radio Control Fun Fly! ✈️ \n\n\n\nGet ready for an exhilarating weekend of RC flying at the 18th Annual Wings Over Chino\, hosted by the Pomona Valley Model Airplane Club (PVMAC)! This AMA Sanctioned event brings together pilots from all over for amazing scale flying\, great camaraderie\, and unforgettable fun. Whether you’re a seasoned flyer or just getting started\, this is an event you won’t want to miss! \n\n\n\nRegistration is Closed for the Event. \n\n\n\n📌 Event Details:\n\n\n\n✅ AMA Membership Required – Ensure your membership is current to participate.✅ FAA Registration – All aircraft must display proper FAA registration markings.✅ No Turbines – Unfortunately\, turbines are not permitted at this event.✅ Safety First – Every pilot must have a fire extinguisher in their pit area.✅ Scale Helicopters Welcome – Helis must follow the flight pattern and use the runway.✅ No Drones – While PVMAC is drone-friendly during normal operations\, this event is exclusively for scale model aircraft.✅ Fuel Spill-Free Zone – If flying glow or gas planes\, fuel must be contained—no spills allowed! \n\n\n\n🗓️ Schedule & Registration:\n\n\n\n📅 Registration Opens: February 1st – Sign up early to secure your spot!💰 Landing Fee: $50 (pre-registered) / $55 (day of event)🚨 Pre-registration closes April 3! Don’t miss your chance to sign up early! \n\n\n\n🏕️ Dry Camping Information\n\n\n\nDry camping is permitted Monday through Saturday during event week (April 7–12).This is dry camping only — no power\, water\, or sewer hookups are available. \n\n\n\nCamping is first come\, first served and allowed in conjunction with event participation.All campers must follow field rules and safety guidelines. \n\n\n\n🍔 Food & Fun!\n\n\n\nSaturday: 🎉 Pilots enjoy a free lunch! Guests and spectators can purchase lunch on-site. \n\n\n\n🎟️ Exciting Raffle! – Win amazing RC prizes\, accessories\, and more! \n\n\n\n🛠️ Pit Stall & Tent Options\n\n\n\n\n23 paved pit stalls available for reservation – $30 each 10′ × 10′ paved surface with built‑in anchor points. Bring your own canopy and tie‑downs.\n\n\n\nFour 20′ × 20′ event tents – $400 each Pre‑installed commercial tents located on the gravel pit areas to the west and east of the paved stalls.\n\n\n\n2 accessible pit stalls – free on site Reserved for handicap use; first‑come\, first‑served and not available for online reservation.\n\n\n\n\n📌 How It Works\n\n\n\n\nStandard stalls and canopy tents must be reserved in advance\n\n\n\nStall assignments are first‑come\, first‑served\n\n\n\nAccessible stalls are assigned on site\n\n\n\nSpace is limited — plan ahead if you need a dedicated setup area\n\n\n\n\nSpaces are limited\, so plan ahead to lock in your preferred setup! \n\n\n\nJoin us for the 18th Annual Wings Over Chino and experience an action-packed RC event with fellow enthusiasts. \n\n\n\n✈️ See you at the field! ✈️
URL:https://www.pvmac.com/event/wings-over-chino/
CATEGORIES:Competition,Fun Fly
ATTACH;FMTTYPE=image/jpeg:https://www.pvmac.com/wp-content/uploads/2026/01/WoC2026.jpg
END:VEVENT
END:VCALENDAR